{"text_format":"3","workbook":"xlsx","n_sheets":1,"sheets":["Sheet1"],"not_rendered":{"external_links":1,"defined_names":2},"read":"whole","date_system":"1900"}

{"sheet":"Sheet1","index":0,"n_rows":249,"n_cols":4,"rows_kept":249,"merged":[[2,0,2,3]]}
["附件1："]
[]
["合肥市公安局2023年第三批公开招聘警务辅助人员\n体检结果（二）"]
["序号","岗位代码","准考证号","体检结果"]
[1,233001,"20230100103","不合格"]
[2,233001,"20230100203","合格"]
[3,233001,"20230100211","合格"]
[4,233001,"20230100311",{"$f":"VLOOKUP(C8,[1]成绩!$J:$Y,16,0)","v":"弃检"}]
[5,233001,"20230100312","合格"]
[6,233001,"20230100314",{"$f":"VLOOKUP(C10,[1]成绩!$J:$Y,16,0)","v":"不合格"}]
[7,233002,"20230100324","合格"]
[8,233002,"20230100403","合格"]
[9,233002,"20230100409","合格"]
[10,233002,"20230100425","合格"]
[11,233002,"20230100511","合格"]
[12,233002,"20230100529","合格"]
[13,233002,"20230100602","合格"]
[14,233002,"20230100603","合格"]
[15,233003,"20230100621",{"$f":"VLOOKUP(C19,[1]成绩!$J:$Y,16,0)","v":"不合格"}]
[16,233003,"20230100709","合格"]
[17,233003,"20230100722","合格"]
[18,233003,"20230100724","合格"]
[19,233003,"20230100726","弃检"]
[20,233003,"20230100823",{"$f":"VLOOKUP(C24,[1]成绩!$J:$Y,16,0)","v":"不合格"}]
[21,233003,"20230100825","合格"]
[22,233004,"20230100905","合格"]
[23,233004,"20230100910",{"$f":"VLOOKUP(C27,[1]成绩!$J:$Y,16,0)","v":"不合格"}]
[24,233004,"20230100920","合格"]
[25,233004,"20230100928","合格"]
[26,233004,"20230100930",{"$f":"VLOOKUP(C30,[1]成绩!$J:$Y,16,0)","v":"弃检"}]
[27,233004,"20230101019","合格"]
[28,233004,"20230101024","复检"]
[29,233004,"20230101101",{"$f":"VLOOKUP(C33,[1]成绩!$J:$Y,16,0)","v":"不合格"}]
[30,233005,"20230101202",{"$f":"VLOOKUP(C34,[1]成绩!$J:$Y,16,0)","v":"不合格"}]
[31,233005,"20230101209","合格"]
[32,233005,"20230101211","合格"]
[33,233005,"20230101227","合格"]
[34,233005,"20230101321",{"$f":"VLOOKUP(C38,[1]成绩!$J:$Y,16,0)","v":"不合格"}]
[35,233006,"20230101408","合格"]
[36,233006,"20230101413","合格"]
[37,233006,"20230101503",{"$f":"VLOOKUP(C41,[1]成绩!$J:$Y,16,0)","v":"弃检"}]
[38,233006,"20230101506","合格"]
[39,233006,"20230101510","合格"]
[40,233006,"20230101606","合格"]
[41,233007,"20230101625","合格"]
[42,233007,"20230101626","合格"]
[43,233007,"20230101628","合格"]
[44,233007,"20230101629",{"$f":"VLOOKUP(C48,[1]成绩!$J:$Y,16,0)","v":"不合格"}]
[45,233007,"20230101716","合格"]
[46,233007,"20230101718","合格"]
[47,233007,"20230101720","合格"]
[48,233007,"20230101729","合格"]
[49,233007,"20230101802","合格"]
[50,233007,"20230101803",{"$f":"VLOOKUP(C54,[1]成绩!$J:$Y,16,0)","v":"不合格"}]
[51,233007,"20230101804","合格"]
[52,233007,"20230101806","合格"]
[53,233007,"20230101815",{"$f":"VLOOKUP(C57,[1]成绩!$J:$Y,16,0)","v":"弃检"}]
[54,233008,"20230101903","合格"]
[55,233008,"20230102021","合格"]
[56,233009,"20230102119",{"$f":"VLOOKUP(C60,[1]成绩!$J:$Y,16,0)","v":"不合格"}]
[57,233009,"20230102125","不合格"]
[58,233009,"20230102203",{"$f":"VLOOKUP(C62,[1]成绩!$J:$Y,16,0)","v":"不合格"}]
[59,233009,"20230102221","合格"]
[60,233009,"20230102222","合格"]
[61,233009,"20230102303","合格"]
[62,233010,"20230102323","合格"]
[63,233010,"20230102324","复检"]
[64,233010,"20230102430","合格"]
[65,233010,"20230102510","合格"]
[66,233010,"20230102519","复检"]
[67,233010,"20230102528","复检"]
[68,233010,"20230102605",{"$f":"VLOOKUP(C72,[1]成绩!$J:$Y,16,0)","v":"不合格"}]
[69,233010,"20230102610","合格"]
[70,233010,"20230102619","合格"]
[71,233010,"20230102625",{"$f":"VLOOKUP(C75,[1]成绩!$J:$Y,16,0)","v":"不合格"}]
[72,233011,"20230102704","合格"]
[73,233011,"20230102714","合格"]
[74,233011,"20230102916","合格"]
[75,233011,"20230103130","合格"]
[76,233011,"20230103304","复检"]
[77,233011,"20230103306","合格"]
[78,233011,"20230103318","合格"]
[79,233011,"20230103403","合格"]
[80,233011,"20230103414","复检"]
[81,233011,"20230103420","合格"]
[82,233011,"20230103607","合格"]
[83,233011,"20230103608",{"$f":"VLOOKUP(C87,[1]成绩!$J:$Y,16,0)","v":"不合格"}]
[84,233011,"20230103609","合格"]
[85,233012,"20230103826","合格"]
[86,233012,"20230104302","合格"]
[87,233012,"20230104416",{"$f":"VLOOKUP(C91,[1]成绩!$J:$Y,16,0)","v":"补检"}]
[88,233012,"20230104426","合格"]
[89,233012,"20230104428","合格"]
[90,233012,"20230104509","合格"]
[91,233012,"20230104515","合格"]
[92,233012,"20230104529","合格"]
[93,233013,"20230104628","合格"]
[94,233013,"20230104910",{"$f":"VLOOKUP(C98,[1]成绩!$J:$Y,16,0)","v":"不合格"}]
[95,233013,"20230104928","合格"]
[96,233013,"20230105014","复检"]
[97,233013,"20230105106","合格"]
[98,233013,"20230105123","合格"]
[99,233013,"20230105214","合格"]
[100,233013,"20230105403","合格"]
[101,233013,"20230105608","合格"]
[102,233014,"20230105721","合格"]
[103,233014,"20230105803","合格"]
[104,233015,"20230105810",{"$f":"VLOOKUP(C108,[1]成绩!$J:$Y,16,0)","v":"不合格"}]
[105,233015,"20230105819",{"$f":"VLOOKUP(C109,[1]成绩!$J:$Y,16,0)","v":"弃检"}]
[106,233015,"20230105828","合格"]
[107,233015,"20230105904","合格"]
[108,233015,"20230105916","合格"]
[109,233015,"20230105917","合格"]
[110,233015,"20230106020",{"$f":"VLOOKUP(C114,[1]成绩!$J:$Y,16,0)","v":"不合格"}]
[111,233016,"20230106024","复检"]
[112,233016,"20230200114","合格"]
[113,233016,"20230200130","复检"]
[114,233016,"20230200202",{"$f":"VLOOKUP(C118,[1]成绩!$J:$Y,16,0)","v":"不合格"}]
[115,233016,"20230200203","合格"]
[116,233016,"20230200206","合格"]
[117,233016,"20230200214","合格"]
[118,233016,"20230200217","合格"]
[119,233016,"20230200305","复检"]
[120,233017,"20230200313","合格"]
[121,233017,"20230200327","合格"]
[122,233017,"20230200410","合格"]
[123,233017,"20230200429","合格"]
[124,233017,"20230200505","合格"]
[125,233018,"20230200522","合格"]
[126,233018,"20230200629",{"$f":"VLOOKUP(C130,[1]成绩!$J:$Y,16,0)","v":"弃检"}]
[127,233018,"20230200706","合格"]
[128,233018,"20230200708","合格"]
[129,233018,"20230200710","合格"]
[130,233018,"20230200721","合格"]
[131,233019,"20230200803",{"$f":"VLOOKUP(C135,[1]成绩!$J:$Y,16,0)","v":"不合格"}]
[132,233019,"20230200829","复检"]
[133,233019,"20230200910","合格"]
[134,233019,"20230200930","合格"]
[135,233019,"20230201010",{"$f":"VLOOKUP(C139,[1]成绩!$J:$Y,16,0)","v":"弃检"}]
[136,233020,"20230201023","合格"]
[137,233020,"20230201029","合格"]
[138,233020,"20230201101","合格"]
[139,233020,"20230201110","合格"]
[140,233020,"20230201129","合格"]
[141,233020,"20230201201","合格"]
[142,233020,"20230201204","合格"]
[143,233020,"20230201213","合格"]
[144,233020,"20230201215","复检"]
[145,233021,"20230201309",{"$f":"VLOOKUP(C149,[1]成绩!$J:$Y,16,0)","v":"不合格"}]
[146,233021,"20230201314","合格"]
[147,233021,"20230201320","合格"]
[148,233021,"20230201329","合格"]
[149,233022,"20230201624","合格"]
[150,233022,"20230201710","不合格"]
[151,233022,"20230201826","合格"]
[152,233022,"20230201907","合格"]
[153,233022,"20230202013","合格"]
[154,233022,"20230202027","合格"]
[155,233022,"20230202423","合格"]
[156,233022,"20230202606","合格"]
[157,233022,"20230202608","合格"]
[158,233024,"20230202818","合格"]
[159,233101,"20230202929","合格"]
[160,233102,"20230204004","不合格"]
[161,233103,"20230204208","合格"]
[162,233103,"20230204222",{"$f":"VLOOKUP(C166,[1]成绩!$J:$Y,16,0)","v":"不合格"}]
[163,233201,"20230204227","复检"]
[164,233201,"20230204304",{"$f":"VLOOKUP(C168,[1]成绩!$J:$Y,16,0)","v":"弃检"}]
[165,233201,"20230204414","合格"]
[166,233201,"20230204430",{"$f":"VLOOKUP(C170,[1]成绩!$J:$Y,16,0)","v":"弃检"}]
[167,233201,"20230204501","合格"]
[168,233202,"20230204605","合格"]
[169,233202,"20230204619","合格"]
[170,233202,"20230204716","合格"]
[171,233203,"20230204817","合格"]
[172,233203,"20230204911","合格"]
[173,233203,"20230204922","合格"]
[174,233203,"20230204926","合格"]
[175,233203,"20230205002","合格"]
[176,233301,20230205012,"合格"]
[177,233304,20230300126,"合格"]
[178,233304,20230300302,"合格"]
[179,233305,20230300409,"合格"]
[180,233305,20230300509,"不合格"]
[181,233305,20230300516,{"$f":"VLOOKUP(C185,[1]成绩!$J:$Y,16,0)","v":"弃检"}]
[182,233305,20230300519,"合格"]
[183,233305,20230300522,"合格"]
[184,233305,20230300605,"合格"]
[185,233305,20230300613,"合格"]
[186,233401,"20230300707","合格"]
[187,233401,"20230300716","合格"]
[188,233401,"20230300802","合格"]
[189,233401,"20230300806",{"$f":"VLOOKUP(C193,[1]成绩!$J:$Y,16,0)","v":"不合格"}]
[190,233402,"20230300828","合格"]
[191,233402,"20230301023","复检"]
[192,233403,"20230301307","合格"]
[193,233403,"20230301324",{"$f":"VLOOKUP(C197,[1]成绩!$J:$Y,16,0)","v":"不合格"}]
[194,233403,"20230301401","合格"]
[195,233403,"20230301414","合格"]
[196,233404,"20230301601","合格"]
[197,233405,"20230301808","合格"]
[198,233405,"20230301918",{"$f":"VLOOKUP(C202,[1]成绩!$J:$Y,16,0)","v":"弃检"}]
[199,233501,"20230302124","合格"]
[200,233502,"20230302201","合格"]
[201,233502,"20230302202","合格"]
[202,233502,"20230302307","不合格"]
[203,233503,"20230302324","合格"]
[204,233503,"20230302411",{"$f":"VLOOKUP(C208,[1]成绩!$J:$Y,16,0)","v":"不合格"}]
[205,233503,"20230302412","合格"]
[206,233504,"20230302505","合格"]
[207,233504,"20230302510","合格"]
[208,233504,"20230302526","合格"]
[209,233505,"20230302619","合格"]
[210,233505,"20230302710","合格"]
[211,233505,"20230302716","合格"]
[212,233505,"20230302802","合格"]
[213,233505,"20230302806","合格"]
[214,233507,"20230400527","合格"]
[215,233507,"20230400602","合格"]
[216,233507,"20230400609","合格"]
[217,233508,"20230400720","合格"]
[218,233508,"20230400801","合格"]
[219,233511,"20230400927","合格"]
[220,233512,"20230401004","合格"]
[221,233512,"20230401008","合格"]
[222,233512,"20230401010","合格"]
[223,233514,"20230401210","合格"]
[224,233514,"20230401218","合格"]
[225,233601,"20230401317","合格"]
[226,233601,"20230401318","弃检"]
[227,233602,"20230401421","合格"]
[228,233602,"20230401507","合格"]
[229,233602,"20230401511","合格"]
[230,233603,"20230401605","合格"]
[231,233603,"20230401610","合格"]
[232,233603,"20230401624","合格"]
[233,233603,"20230401710","不合格"]
[234,233603,"20230401712","合格"]
[235,233604,"20230401719","合格"]
[236,233604,"20230401721","复检"]
[237,233604,"20230401727","复检"]
[238,233604,"20230401807",{"$f":"VLOOKUP(C242,[1]成绩!$J:$Y,16,0)","v":"弃检"}]
[239,233604,"20230401811","不合格"]
[240,233605,"20230401917","合格"]
[241,233605,"20230401930","合格"]
[242,233605,"20230402001","复检"]
[243,233608,"20230402222","合格"]
[244,233608,"20230402510","合格"]
[245,233608,"20230402523","合格"]